BEGIN:VCALENDAR
VERSION:2.0
PRODID:-//Vredescomité Kortrijk - ECPv6.15.20//NONSGML v1.0//EN
CALSCALE:GREGORIAN
METHOD:PUBLISH
X-ORIGINAL-URL:https://vredescomitekortrijk.org
X-WR-CALDESC:Evenementen voor Vredescomité Kortrijk
REFRESH-INTERVAL;VALUE=DURATION:PT1H
X-Robots-Tag:noindex
X-PUBLISHED-TTL:PT1H
BEGIN:VTIMEZONE
TZID:UTC
BEGIN:STANDARD
TZOFFSETFROM:+0000
TZOFFSETTO:+0000
TZNAME:UTC
DTSTART:20230101T000000
END:STANDARD
END:VTIMEZONE
BEGIN:VEVENT
DTSTART;TZID=UTC:20250718T170000
DTEND;TZID=UTC:20250718T180000
DTSTAMP:20260421T133820
CREATED:20250718T234647Z
LAST-MODIFIED:20250718T234738Z
UID:1074-1752858000-1752861600@vredescomitekortrijk.org
SUMMARY:Palestina wake
DESCRIPTION:NLWekelijks komen we samen om stil te staan bij de genocide in Gaza\, de etnische zuiveringen op de Westelijke Jordaanoever en in Jeruzalem.Wekelijks komen we samen om stil te staan en te praten over de bredere geopolitieke situatie in het Midden-Oosten.\n–\nENWeekly we gather to reflect on the genocide in Gaza\, the ethnic cleansing in the West Bank and in Jerusalem.Weekly\, we come together to reflect and discuss the wider geopolitical situation in the Middle East.\n–\nFRChaque semaine\, nous nous réunissons pour réfléchir au génocide à Gaza\, au nettoyage ethnique en Cisjordanie et à Jérusalem.Chaque semaine\, nous nous réunissons pour réfléchir et discuter de la situation géopolitique générale au Moyen-Orient.\n–\n ARأسبوعيًا نجتمع للتفكير في الإبادة الجماعية في غزة، والتطهير العرقي في الضفة الغربية والقدس.نلتقي أسبوعيًا لنتوقف ونناقش الوضع الجيوسياسي الأوسع في الشرق الأوسط.\n–\n#StopGenocideOfPalestinians#StopEthnicCleansingOfPalestine#Nakba#nakba1948#Nakba77#FreePalestine
URL:https://vredescomitekortrijk.org/event/palestina-wake/
LOCATION:verzetskaai kortrijk\, Verzetskaai\, Kortrijk\, 8520\, Belgium
CATEGORIES:Stiltecirkel
END:VEVENT
BEGIN:VEVENT
DTSTART;TZID=UTC:20250511T140000
DTEND;TZID=UTC:20250511T170000
DTSTAMP:20260421T133820
CREATED:20250507T201806Z
LAST-MODIFIED:20250507T202219Z
UID:1039-1746972000-1746982800@vredescomitekortrijk.org
SUMMARY:Nationale betoging nav 77 jaar Nakba
DESCRIPTION:De Nationale Coalitie voor Palestina organiseert op zondag 11 mei 2025 een manifestatie om het onrecht van de Nakba aan te kaarten. \nStart: zo 11/05/2025 – 14:00\nEinde: zo 11/05/2025 – 16:30 \nSimon Bolivarlaan (Noordstation)\nparcours via Kanaal!\n1000 Brussel \nAl veel te lang\, 77 jaar nu\, worden Palestijnen verdrukt door Israël. In 1948 werden Palestijnen massaal verdreven uit hun huizen en van hun land door Israëlische milities. \nSindsdien is het geweld tegen Palestijnen nooit meer gestopt\, met vandaag de trieste oorlog in Gaza als dieptepunt. Samen met veel organisaties zetten we de schijnwerpers op dit onrecht en vragen we de Belgische en Europese overheden om eindelijk hun verantwoordelijkheid op te nemen om dit onrecht te stoppen. 77 jaar is echt schandalig lang… \nDe oorlog in Gaza raast maar door. Vele tienduizenden doden\, waaronder zeker 18.000 kinderen: het zijn onschuldige burgerslachtoffers\, die eigenlijk hadden moeten beschermd worden. De honger en het gebrek aan medische verzorging maken vandaag ook veel slachtoffers. Om de honger in beeld te brengen\, vragen we om een pot of pan mee te brengen en een lepel of deksel om lawaai te maken. \nZondag is het ook Moederdag: we denken tijdens de actie daarom ook aan alle moeders die getroffen zijn door verdriet\, pijn\, rouw en machteloosheid. WIj steken hen een hart onder de riem en dragen deze Nakba-manifestatie aan hen op. \nBron: Pax Christi
URL:https://vredescomitekortrijk.org/event/nationale-betoging-over-77-jaar-nakba/
CATEGORIES:Mars
ATTACH;FMTTYPE=image/jpeg:https://vredescomitekortrijk.org/wp-content/uploads/2025/05/77jaarNakba.jpg
END:VEVENT
BEGIN:VEVENT
DTSTART;TZID=UTC:20240229T190000
DTEND;TZID=UTC:20240229T200000
DTSTAMP:20260421T133820
CREATED:20240218T204343Z
LAST-MODIFIED:20240517T141231Z
UID:109-1709233200-1709236800@vredescomitekortrijk.org
SUMMARY:Palestina Wake Verzetskade
DESCRIPTION:Vanaf 16 november 2023 houden we met Platform Palestina Solidariteit Kortrijk wekelijks elke donderdagavond tot eind februari ‘Stille Wake’ aan de Verzetskaai\, nabij de Broeltorens. Het is een intiem gebeuren\, waarbij Palestijnen uit Kortrijk getuigen over het leed van hun familieleden in Gaza en Westoever onder de Israelische bombardementen. We praten over de situatie en houden een ‘minuut stilte’ voor de vele doden en gewonden. \n\n			\n				\n			\n			\n				\n			\n			\n				\n			\n		\n\n 
URL:https://vredescomitekortrijk.org/event/palestina-wake-verzetskade/
LOCATION:verzetskade kortrijk\, Verzetskade\, Kortrijk\, België
ATTACH;FMTTYPE=image/jpeg:https://vredescomitekortrijk.org/wp-content/uploads/2024/02/IMG_20231207_185658_1024w.jpg
END:VEVENT
END:VCALENDAR