BEGIN:VCALENDAR
VERSION:2.0
PRODID:-//Vredescomité Kortrijk - ECPv6.15.20//NONSGML v1.0//EN
CALSCALE:GREGORIAN
METHOD:PUBLISH
X-ORIGINAL-URL:https://vredescomitekortrijk.org
X-WR-CALDESC:Evenementen voor Vredescomité Kortrijk
REFRESH-INTERVAL;VALUE=DURATION:PT1H
X-Robots-Tag:noindex
X-PUBLISHED-TTL:PT1H
BEGIN:VTIMEZONE
TZID:UTC
BEGIN:STANDARD
TZOFFSETFROM:+0000
TZOFFSETTO:+0000
TZNAME:UTC
DTSTART:20240101T000000
END:STANDARD
END:VTIMEZONE
BEGIN:VEVENT
DTSTART;TZID=UTC:20250615T140000
DTEND;TZID=UTC:20250615T170000
DTSTAMP:20260422T132329
CREATED:20250530T220633Z
LAST-MODIFIED:20250530T220900Z
UID:1061-1749996000-1750006800@vredescomitekortrijk.org
SUMMARY:Kom op 15 juni naar Brussel en trek mee de Rode Lijn voor Gaza
DESCRIPTION:© 11.11.11\nOp zondag 15 juni trekt 11.11.11 de rode lijn.  Omdat alle rode lijnen in Gaza al lang overschreden zijn. \nZondag 15 juni staan we zij aan zij. Duizenden burgers\, organisaties\, vakbonden\, ngo’s en het brede middenveld vormen één rode mensenketting in Brussel. We zwijgen niet. We kijken niet weg. We verzetten ons. \nTegen genocide. Tegen etnische zuivering. Tegen honger als wapen en moord als beleid.\nTegen het doden van kinderen\, het platbombarderen van wijken\, het breken van een volk.\nTegen de schaamteloze straffeloosheid. Tegen het cynisme van Israëlische oorlogsmisdaden. \nMaar ook tegen de Europese regeringen. Die de mond vol hebben van mensenrechten\, maar intussen toekijken en zelfs bijdragen aan oorlogsmisdaden. \nZolang politici de rode lijn niet trekken\, doen wij het.   \n11.11.11 eist dat Europa niet langer zwijgt\, maar kiest voor rechtvaardigheid. Voor mensenrechten. Voor duurzame vrede. Voor de toekomst van het Palestijnse volk. \nTrek mee de rode lijn op 15 juni. Trek iets roods aan. En laat je horen.\nHoe meer mensen\, hoe krachtiger onze oproep. \nPraktisch\nZondag 15 juni om 14.00 aan Brussel-Noord\nTrek iets rood aan. De organisatie vraagt om geen partij -of organisatievlaggen mee te nemen naar deze actie. Iedereen is welkom! \nLees meer. \nBron: 11.be
URL:https://vredescomitekortrijk.org/event/kom-op-15-juni-naar-brussel-en-trek-mee-de-rode-lijn-voor-gaza/
LOCATION:Brussel Noord Station
CATEGORIES:Mars
ATTACH;FMTTYPE=image/jpeg:https://vredescomitekortrijk.org/wp-content/uploads/2025/05/20250524-Leuven-derodelijn-scaled.jpg
END:VEVENT
END:VCALENDAR