BEGIN:VCALENDAR
VERSION:2.0
PRODID:-//Vredescomité Kortrijk - ECPv6.15.20//NONSGML v1.0//EN
CALSCALE:GREGORIAN
METHOD:PUBLISH
X-ORIGINAL-URL:https://vredescomitekortrijk.org
X-WR-CALDESC:Evenementen voor Vredescomité Kortrijk
REFRESH-INTERVAL;VALUE=DURATION:PT1H
X-Robots-Tag:noindex
X-PUBLISHED-TTL:PT1H
BEGIN:VTIMEZONE
TZID:UTC
BEGIN:STANDARD
TZOFFSETFROM:+0000
TZOFFSETTO:+0000
TZNAME:UTC
DTSTART:20240101T000000
END:STANDARD
END:VTIMEZONE
BEGIN:VEVENT
DTSTART;TZID=UTC:20250508T100000
DTEND;TZID=UTC:20250508T113000
DTSTAMP:20260421T150120
CREATED:20250422T103920Z
LAST-MODIFIED:20250422T215836Z
UID:997-1746698400-1746703800@vredescomitekortrijk.org
SUMMARY:3de vredesmars "8 mei VRIJ" in Kortrijk
DESCRIPTION:Kortrijk\, 8 mei 2024\nWe starten de vredesmars om 10u op het Schouwburgplein en wandelen via de Grote Markt en de verzetskaai tot bij Broelkaai 6 voor een vredeshappening om 11u. Onderweg staan wij een paar keer stil bij teksten en/of muziek.
URL:https://vredescomitekortrijk.org/event/3de-vredesmars-8-mei-vrij-in-kortrijk/
LOCATION:Schouwburgplein Kortrijk\, Schouwburgplein\, Kortrijk\, West-Vlaanderen\, 8520\, België
CATEGORIES:Mars,Nieuws
ATTACH;FMTTYPE=image/png:https://vredescomitekortrijk.org/wp-content/uploads/2025/03/250508-banner-1920x1080-1.png
END:VEVENT
BEGIN:VEVENT
DTSTART;TZID=UTC:20250511T140000
DTEND;TZID=UTC:20250511T170000
DTSTAMP:20260421T150120
CREATED:20250507T201806Z
LAST-MODIFIED:20250507T202219Z
UID:1039-1746972000-1746982800@vredescomitekortrijk.org
SUMMARY:Nationale betoging nav 77 jaar Nakba
DESCRIPTION:De Nationale Coalitie voor Palestina organiseert op zondag 11 mei 2025 een manifestatie om het onrecht van de Nakba aan te kaarten. \nStart: zo 11/05/2025 – 14:00\nEinde: zo 11/05/2025 – 16:30 \nSimon Bolivarlaan (Noordstation)\nparcours via Kanaal!\n1000 Brussel \nAl veel te lang\, 77 jaar nu\, worden Palestijnen verdrukt door Israël. In 1948 werden Palestijnen massaal verdreven uit hun huizen en van hun land door Israëlische milities. \nSindsdien is het geweld tegen Palestijnen nooit meer gestopt\, met vandaag de trieste oorlog in Gaza als dieptepunt. Samen met veel organisaties zetten we de schijnwerpers op dit onrecht en vragen we de Belgische en Europese overheden om eindelijk hun verantwoordelijkheid op te nemen om dit onrecht te stoppen. 77 jaar is echt schandalig lang… \nDe oorlog in Gaza raast maar door. Vele tienduizenden doden\, waaronder zeker 18.000 kinderen: het zijn onschuldige burgerslachtoffers\, die eigenlijk hadden moeten beschermd worden. De honger en het gebrek aan medische verzorging maken vandaag ook veel slachtoffers. Om de honger in beeld te brengen\, vragen we om een pot of pan mee te brengen en een lepel of deksel om lawaai te maken. \nZondag is het ook Moederdag: we denken tijdens de actie daarom ook aan alle moeders die getroffen zijn door verdriet\, pijn\, rouw en machteloosheid. WIj steken hen een hart onder de riem en dragen deze Nakba-manifestatie aan hen op. \nBron: Pax Christi
URL:https://vredescomitekortrijk.org/event/nationale-betoging-over-77-jaar-nakba/
CATEGORIES:Mars
ATTACH;FMTTYPE=image/jpeg:https://vredescomitekortrijk.org/wp-content/uploads/2025/05/77jaarNakba.jpg
END:VEVENT
BEGIN:VEVENT
DTSTART;TZID=UTC:20250515T173000
DTEND;TZID=UTC:20250515T183000
DTSTAMP:20260421T150120
CREATED:20250422T104750Z
LAST-MODIFIED:20250422T220033Z
UID:999-1747330200-1747333800@vredescomitekortrijk.org
SUMMARY:Nakba stilte cirkel
DESCRIPTION:Vind jij het het belangrijk dat onrecht aangekaart wordt? Dat er nu – met de zoveelste oorlog – iets gedaan wordt aan de dodelijke situatie in Israël en Palestina? \nKom dan op donderdag 15 mei om 17u30 naar de Grote Markt te Kortrijk en vorm met ons een stiltecirkel voor de Nakba-herdenking. \nPax Christi Vlaanderen coördineert overal in Vlaanderen en Brussel stiltecirkels om de Nakba van 1948 te herdenken en het blijven voortduren ervan tot de dag van vandaag onder de aandacht te brengen. De Nakba is vandaag meer dan ooit bezig… \nWat is de Nakba?\nToen op 14 mei 1948 Israël zichzelf onafhankelijk verklaarde\, volgde een golf van geweld die 750.000 Palestijnen uit hun huizen verdreef. Deze periode wordt door de Palestijnse bevolking de Nakba of Catastrofe genoemd. Joodse leger- en terreurgroepen verdreven 750.000 Palestijnen uit hun huizen en van hun grond. Meer dan 500 Palestijnse dorpen en gehuchten werden van de kaart geveegd. De inwoners kwamen terecht in vluchtelingenkampen. De Israëlische wetgeving maakte een terugkeer naar huis of grond onmogelijk: de eigendommen werden geconfisqueerd. De huissleutel is vaak het enige dat nog overblijft. \nOorlog in Gaza is nieuwe fase van de Nakba\nNa anderhalf jaar oorlog in Gaza wordt de hulpeloze bevolking nog dagelijks geteisterd door het Israëlisch leger. De verwoesting is enorm\, net zoals het aantal slachtoffers waarvan 1 derde kinderen. Een onbekend aantal doden ligt nog onder het puin. Anderhalf miljoen burgers sloegen op de vlucht\, met geen enkele veilige plek om naartoe te gaan. Alles wordt gebombardeerd\, zonder onderscheid. Ze proberen te overleven bij een kritiek tekort aan onderdak\, voedsel\, drinkwater\, elektriciteit en gezondheidszorg. Israëlische topfunctionarissen roepen herhaaldelijk op tot een totale zuivering. \nHet extreem geweld van vandaag is het resultaat van een veel te lang aanslepend onrecht. Zolang de Nakba voortduurt\, is niemand veilig. \nSamen veroordelen we elke vorm van geweld!\nHet Vredescomité Kortrijk kan zich vinden in het volgende standpunt: Pax Christi Vlaanderen veroordeelt met klem de raketaanvallen van Hamas net zoals het steeds het ongebreidelde en disproportionele geweld van Israël tegen Palestijnse burgers heeft veroordeeld. Geweld stop je niet met geweld. Daarom pleitte Pax Christi in het verleden steeds voor het beëindigen van de bezetting van Palestijns gebied en voor het opstarten van nieuwe vredesgesprekken. Ook vandaag is dat de enige weg om het bloedvergieten te doen stoppen. \nOveral in Vlaanderen wordt actie gevoerd\nPax Christi brengt de Nakba onder de aandacht tijdens stiltecirkels in o.a. Antwerpen\, Brugge\, Brussel\, Gent\, Ieper\, Kortrijk\, Leuven\, Mechelen\, Oostende\, Sint-Niklaas\, Tielt en Zolder. Check www.paxchristi.be/nakba2025 voor de juiste locaties en uren.
URL:https://vredescomitekortrijk.org/event/nakba-stilte-cirkel/
LOCATION:Grote Markt Kortrijk\, Grote Markt\, Kortrijk\, West-Vlaanderen\, 8500\, België
CATEGORIES:Nieuws,Stiltecirkel
ATTACH;FMTTYPE=image/png:https://vredescomitekortrijk.org/wp-content/uploads/2025/03/2024-nakba-protest-©-Omar-Ashtawy-APA-Images-Kortrijk.png
END:VEVENT
END:VCALENDAR