BEGIN:VCALENDAR
VERSION:2.0
PRODID:-//Vredescomité Kortrijk - ECPv6.15.20//NONSGML v1.0//EN
CALSCALE:GREGORIAN
METHOD:PUBLISH
X-WR-CALNAME:Vredescomité Kortrijk
X-ORIGINAL-URL:https://vredescomitekortrijk.org
X-WR-CALDESC:Evenementen voor Vredescomité Kortrijk
REFRESH-INTERVAL;VALUE=DURATION:PT1H
X-Robots-Tag:noindex
X-PUBLISHED-TTL:PT1H
BEGIN:VTIMEZONE
TZID:UTC
BEGIN:STANDARD
TZOFFSETFROM:+0000
TZOFFSETTO:+0000
TZNAME:UTC
DTSTART:20240101T000000
END:STANDARD
END:VTIMEZONE
BEGIN:VEVENT
DTSTART;TZID=UTC:20250227T193000
DTEND;TZID=UTC:20250227T213000
DTSTAMP:20260421T103900
CREATED:20250223T172853Z
LAST-MODIFIED:20250305T221421Z
UID:956-1740684600-1740691800@vredescomitekortrijk.org
SUMMARY:Op de sofa: Kati Verstrepen
DESCRIPTION:Kati Verstrepen\, advocate en sinds 2017 voorzitter van de Liga voor Mensenrechten\, is een krachtige stem in de strijd voor gelijke mensenrechten. Wat begon als een juridische roeping\, is uitgegroeid tot een leven gewijd aan het bestrijden van onrecht. \nIn een goed functionerende democratie hebben activisme en burgerlijke ongehoorzaamheid een duidelijke rol. Toch komt het recht op vrije meningsuiting en vergadering meer en meer onder druk te staan. \nTijdens deze Op de Sofa gaat Sandy Snoeck in gesprek met Kati Verstrepen\, en met enkele andere gasten\, onder meer Joeri Thijs (Greenpeace) en Simon Verschelde (o.a. LieveZusjesStoereBroers). Over het belang van je stem verheffen\, het opkomen voor anderen en de moed om tegen de stroom in te gaan wanneer dat nodig is. \n\nHoeveel ruimte is er nog voor verzet en burgerlijke ongehoorzaamheid?\nHeeft die ingeperkte bewegingsvrijheid effect op de efficiëntie van protest?\nVia welke weg kun je (wel nog) protesteren?\nHoe en via welke kanalen uiten jongeren hun ongenoegen?\nWelke rol speelt de publieke ruimte en hoe kijken kunstenaars naar protest?\n\nWanneer: Donderdag 27 februari 2025 om 19u30 \nWaar: Avansa Mid- en Zuidwest Wandelweg 11 8500 Kortrijk \nPrijs: \n\nStandaard: € 5\,00\nKorting: € 2\,50 voor studenten of ontvangers van een vervangingsinkomen\nKansentarief: € 1\,00 voor ontvangers van leefloon of verhoogde tegemoetkoming\nGratis: voor ACV- en ABVV-leden.\n\nIn samenwerking met ABVV West-Vlaanderen\, ACV West-Vlaanderen\, Amnesty International Vlaanderen groep regio Kortrijk\, Liga voor mensenrechten
URL:https://vredescomitekortrijk.org/event/op-de-sofa-kati-verstrepen/
LOCATION:Avansa Mid- en Zuidwest\, Wandelweg 11\, Kortrijk\, West-Vlaanderen\, 8500\, Belgium
CATEGORIES:Lezing,Nieuws
ATTACH;FMTTYPE=image/png:https://vredescomitekortrijk.org/wp-content/uploads/2025/02/katie-verstrepen.png
END:VEVENT
END:VCALENDAR