BEGIN:VCALENDAR
VERSION:2.0
PRODID:-//Vredescomité Kortrijk - ECPv6.15.20//NONSGML v1.0//EN
CALSCALE:GREGORIAN
METHOD:PUBLISH
X-WR-CALNAME:Vredescomité Kortrijk
X-ORIGINAL-URL:https://vredescomitekortrijk.org
X-WR-CALDESC:Evenementen voor Vredescomité Kortrijk
REFRESH-INTERVAL;VALUE=DURATION:PT1H
X-Robots-Tag:noindex
X-PUBLISHED-TTL:PT1H
BEGIN:VTIMEZONE
TZID:UTC
BEGIN:STANDARD
TZOFFSETFROM:+0000
TZOFFSETTO:+0000
TZNAME:UTC
DTSTART:20230101T000000
END:STANDARD
END:VTIMEZONE
BEGIN:VEVENT
DTSTART;TZID=UTC:20240127T170000
DTEND;TZID=UTC:20240127T170000
DTSTAMP:20260423T111001
CREATED:20240209T091158Z
LAST-MODIFIED:20240218T204705Z
UID:90-1706374800-1706374800@vredescomitekortrijk.org
SUMMARY:2de solidariteitsmars voor Palestina
DESCRIPTION:Op zaterdag 27 januari 2024 trok een tweede solidariteitsmars voor Palestina door de straten van Kortrijk. De organisatoren vragen aandacht voor de oorlog in Gaza en het geweld op de Westelijke Jordaanoever. \nMeer info en foto uit Het Laatste Nieuws.
URL:https://vredescomitekortrijk.org/event/2de-solidariteitsmars-voor-palestina/
ATTACH;FMTTYPE=image/jpeg:https://vredescomitekortrijk.org/wp-content/uploads/2024/02/OverwinningVanVrede-e1725653402843.jpg
END:VEVENT
END:VCALENDAR