BEGIN:VCALENDAR
VERSION:2.0
PRODID:-//Vredescomité Kortrijk - ECPv6.15.20//NONSGML v1.0//EN
CALSCALE:GREGORIAN
METHOD:PUBLISH
X-ORIGINAL-URL:https://vredescomitekortrijk.org
X-WR-CALDESC:Evenementen voor Vredescomité Kortrijk
REFRESH-INTERVAL;VALUE=DURATION:PT1H
X-Robots-Tag:noindex
X-PUBLISHED-TTL:PT1H
BEGIN:VTIMEZONE
TZID:UTC
BEGIN:STANDARD
TZOFFSETFROM:+0000
TZOFFSETTO:+0000
TZNAME:UTC
DTSTART:20250101T000000
END:STANDARD
END:VTIMEZONE
BEGIN:VEVENT
DTSTART;TZID=UTC:20260329T140000
DTEND;TZID=UTC:20260329T170000
DTSTAMP:20260421T165830
CREATED:20260227T234210Z
LAST-MODIFIED:20260227T234950Z
UID:1310-1774792800-1774803600@vredescomitekortrijk.org
SUMMARY:Koffienamiddag: Israël-Palestina\, een onmogelijke vrede?
DESCRIPTION:Op 29 maart wordt in Ledegem een koffienamiddag georganiseerd met Geert Vervaele van Pax Christi.  Hij heeft het over de situatie in Israël-Palestina. \nLees meer.
URL:https://vredescomitekortrijk.org/event/koffienamiddag-israel-palestina-een-onmogelijke-vrede/
LOCATION:De Link Sint-Elooiswinkel\, Dorpsplein 17\, Sint-Eloois-Winkel\, West-Vlaanderen\, 8880
CATEGORIES:koffietafel,Lezing
ATTACH;FMTTYPE=image/jpeg:https://vredescomitekortrijk.org/wp-content/uploads/2026/02/Koffienamiddag-260329.jpg
END:VEVENT
END:VCALENDAR