BEGIN:VCALENDAR
VERSION:2.0
PRODID:-//Vredescomité Kortrijk - ECPv6.15.20//NONSGML v1.0//EN
CALSCALE:GREGORIAN
METHOD:PUBLISH
X-WR-CALNAME:Vredescomité Kortrijk
X-ORIGINAL-URL:https://vredescomitekortrijk.org
X-WR-CALDESC:Evenementen voor Vredescomité Kortrijk
REFRESH-INTERVAL;VALUE=DURATION:PT1H
X-Robots-Tag:noindex
X-PUBLISHED-TTL:PT1H
BEGIN:VTIMEZONE
TZID:UTC
BEGIN:STANDARD
TZOFFSETFROM:+0000
TZOFFSETTO:+0000
TZNAME:UTC
DTSTART:20220101T000000
END:STANDARD
END:VTIMEZONE
BEGIN:VEVENT
DTSTART;TZID=UTC:20250320T173000
DTEND;TZID=UTC:20250320T210000
DTSTAMP:20260421T223312
CREATED:20250305T214230Z
LAST-MODIFIED:20250305T221103Z
UID:978-1742491800-1742504400@vredescomitekortrijk.org
SUMMARY:Samen aan tafel tegen racisme
DESCRIPTION:Op donderdag 20 maart 2025 wordt in The Penta van Howest\, samen getafeld tegen racisme. \nProgramma: \n\n17u30 Onthaal\n18u00 Kortfilm ‘Samen Gelukkig’\n19u00 Samen aan tafel – Potluck\n\nMaak je favoriete gerecht en breng het mee om te delen\nInschrijven via QR code\n\n\n\nWaar: \nHowest Kortrijk Weide – The Penta \nSint-Martens-Latemlaan 1B 8500 Kortrijk \n  \nOpkomen voor gelijkheid en vechten tegen racisme en discriminatie. \nUnited Against Racism
URL:https://vredescomitekortrijk.org/event/samen-aan-tafel-tegen-racisme-2/
LOCATION:Howest the Penta\, Sint-Martens-Latemlaan 1B\, Kortrijk\, 8500\, België
CATEGORIES:Film,Potluck
ATTACH;FMTTYPE=image/png:https://vredescomitekortrijk.org/wp-content/uploads/2025/03/Samen-tegen-racisme_top-16x9-2.png
END:VEVENT
BEGIN:VEVENT
DTSTART;TZID=UTC:20250313T201500
DTEND;TZID=UTC:20250322T221500
DTSTAMP:20260421T223312
CREATED:20250302T200016Z
LAST-MODIFIED:20250302T200809Z
UID:968-1741896900-1742681700@vredescomitekortrijk.org
SUMMARY:Ofniettekoop\, voorstelling over de staat van onze democratie
DESCRIPTION:Beeld Giulieta Cortez\nTheatermaker Edoardo Ripani en Geert Six zijn met de Unie der Zorgelozen aan de slag rond het thema ‘democratie’. Met verschillende verkiezingen die we intussen achter de kiezen hebben\, in eigen land en stad maar ook in Amerika en elders\, vragen zij zich af hoe het nu eigenlijk is gesteld met onze democratie. Sinds oktober werken ze wekelijks ‘op de vloer’. Ze improviseren\, praten en schrijven. Uit dit werkproces wordt langzaam een voorstelling geboren die in maart gepresenteerd wordt. \nTheatermaker Edoardo Ripani was de voorbije jaren al verschillende keren in de Unie aan het werk. Met de Unie deelt hij het geloof in de kracht van theater om een megafoon te zetten op ongehoorde verhalen\, de overtuiging dat theater een hefboom kan zijn om levens op te tillen\, en dat niet alleen theater de wereld kan veranderen\, maar de wereld ook het theater. \nEen paar jaar geleden presenteerde Edoardo bij de Unie zijn voorstelling Fratelli. Velen zullen zich ongetwijfeld nog het Koor van de vrouwen uit San Benedetto herinneren\, die in deze voorstelling schitterden. Daarna werkte hij samen met Zorgelozen en zijn kompanen van het Brusselse TransfoCollect in een spelatelier dat uitmondde in een toonmoment in de Unie. \nCredits\nregie Edoardo Ripani – coaching en teksten Geert Six – \nvan en met Jelle Corneille\, Giulieta Cortez\, Jérôme Duchateau\, Erwin Goetz\, Eva Mertens en Triene Nottebaere – \ndramaturgie Joon Bilcke – scenografie Michiel Soete – licht en geluid Maarten Snoeck/ Theatech – affichebeeld Giulieta Cortez \nWaar: Unie der Zorgelozen Pluimstraat 7 8500 Kortrijk \nWanneer: Donderdag 13 & 20\, vrijdag 14 & 21\, zaterdag 15 en 22 maart 2025 om 20u15 \nTicket: betaal wat je kan: \n\nsteuntarief: € 14\nbasistarief: € 10\nreductietarief: € 6\nUitpas kansentarief: € 2\n\nReserveren: 056 22 04 00 of reservatie (at) uniederzorgelozen.be
URL:https://vredescomitekortrijk.org/event/ofniettekoop-voorstelling-over-de-staat-van-onze-democratie/
LOCATION:Unie der Zorgelozen\, Pluimstraat 7\, Kortrijk\, West-Vlaanderen\, 8500\, Belgium
CATEGORIES:Nieuws,Voorstelling
ATTACH;FMTTYPE=image/jpeg:https://vredescomitekortrijk.org/wp-content/uploads/2025/03/beeld-Giulieta-Cortez-scaled-1.jpg
ORGANIZER;CN="Unie der Zorgelozen":MAILTO:info@uniederzorgelozen.be
END:VEVENT
BEGIN:VEVENT
DTSTART;TZID=UTC:20250308T140000
DTEND;TZID=UTC:20250308T170000
DTSTAMP:20260421T223312
CREATED:20250223T194958Z
LAST-MODIFIED:20250305T210409Z
UID:960-1741442400-1741453200@vredescomitekortrijk.org
SUMMARY:Kom op straat voor vrouwenrechten op 8 maart!
DESCRIPTION:Vrouwenrechten staan nog steeds onder druk. Ongelijkheid\, onzekerheid en onrecht? Daar nemen we geen genoegen mee! Daarom trekken we op zaterdag 8 maart\, op Internationale Vrouwendag\, de straten van Kortrijk in. ✊💜\nAfspraak om 14u00 op de Grote Markt in Kortrijk. Breng je vrienden\, familie en collega’s mee\, want samen staan we sterker. Er zijn infostanden\, eetkraampjes en een kinderdorp voor de kleinsten.\nGelijkheid wacht niet. Laat weten dat je erbij bent via het Facebookevent: https://fb.me/e/5paMKXYRw \nWaarom actie nodig is:\n1. Ongelijke behandeling: Vrouwen verdienen gemiddeld 21 % minder dan mannen per jaar\, terwijl zij nog steeds 9\,5 uur meer zorg- en huishoudelijke taken per week dragen. \n2. Seksisme en geweld: Seksistisch en seksueel geweld blijven wijdverbreid in de samenleving en er is te weinig preventie\, opvang en vorming voor politie en justitie. \n3. Bescherm de financiële onafhankelijkheid van vrouwen: De organisatoren maken zich zorgen om de nieuwe voorgestelde maatregelen om het behoud van de 38-urenweek en de pensioenopbouw van vrouwen. \nDe eisen:\n1. Stop de aanval op koopkracht en onafhankelijkheid: Hoger minimumloon en betere beloning in vrouwelijke beroepen. \n2. Herstel publieke diensten: Grote herinvesteringen in kinderopvang en sociale diensten en meer betaalbare woningen\, essentieel voor vrouwen met lagere inkomens. \n3. Stop geweld tegen vrouwen: Meer budget voor opvang\, preventie en vorming voor politie en justitie. \n4. Mijn lichaam\, mijn keuze: Hervorm en verbeter de abortuswet. \n5. Solidariteit wereldwijd: Steun vrouwenrechten overal. \nEen organisatie van Collecti.e.f 8 maars in samenwerking met Femma Wereldvrouwen\, Zelle\, ABVV West-Vlaanderen\, ACV West-Vlaanderen\, Avansa\, FMDO\, Compagnie Cordial
URL:https://vredescomitekortrijk.org/event/kom-op-straat-voor-vrouwenrechten-op-8-maart/
LOCATION:Grote Markt Kortrijk\, Grote Markt\, Kortrijk\, West-Vlaanderen\, 8500\, België
CATEGORIES:Mars,Nieuws
ATTACH;FMTTYPE=image/jpeg:https://vredescomitekortrijk.org/wp-content/uploads/2025/02/Collectief8maars-250308.jpg
END:VEVENT
BEGIN:VEVENT
DTSTART;TZID=UTC:20250227T193000
DTEND;TZID=UTC:20250227T213000
DTSTAMP:20260421T223312
CREATED:20250223T172853Z
LAST-MODIFIED:20250305T221421Z
UID:956-1740684600-1740691800@vredescomitekortrijk.org
SUMMARY:Op de sofa: Kati Verstrepen
DESCRIPTION:Kati Verstrepen\, advocate en sinds 2017 voorzitter van de Liga voor Mensenrechten\, is een krachtige stem in de strijd voor gelijke mensenrechten. Wat begon als een juridische roeping\, is uitgegroeid tot een leven gewijd aan het bestrijden van onrecht. \nIn een goed functionerende democratie hebben activisme en burgerlijke ongehoorzaamheid een duidelijke rol. Toch komt het recht op vrije meningsuiting en vergadering meer en meer onder druk te staan. \nTijdens deze Op de Sofa gaat Sandy Snoeck in gesprek met Kati Verstrepen\, en met enkele andere gasten\, onder meer Joeri Thijs (Greenpeace) en Simon Verschelde (o.a. LieveZusjesStoereBroers). Over het belang van je stem verheffen\, het opkomen voor anderen en de moed om tegen de stroom in te gaan wanneer dat nodig is. \n\nHoeveel ruimte is er nog voor verzet en burgerlijke ongehoorzaamheid?\nHeeft die ingeperkte bewegingsvrijheid effect op de efficiëntie van protest?\nVia welke weg kun je (wel nog) protesteren?\nHoe en via welke kanalen uiten jongeren hun ongenoegen?\nWelke rol speelt de publieke ruimte en hoe kijken kunstenaars naar protest?\n\nWanneer: Donderdag 27 februari 2025 om 19u30 \nWaar: Avansa Mid- en Zuidwest Wandelweg 11 8500 Kortrijk \nPrijs: \n\nStandaard: € 5\,00\nKorting: € 2\,50 voor studenten of ontvangers van een vervangingsinkomen\nKansentarief: € 1\,00 voor ontvangers van leefloon of verhoogde tegemoetkoming\nGratis: voor ACV- en ABVV-leden.\n\nIn samenwerking met ABVV West-Vlaanderen\, ACV West-Vlaanderen\, Amnesty International Vlaanderen groep regio Kortrijk\, Liga voor mensenrechten
URL:https://vredescomitekortrijk.org/event/op-de-sofa-kati-verstrepen/
LOCATION:Avansa Mid- en Zuidwest\, Wandelweg 11\, Kortrijk\, West-Vlaanderen\, 8500\, Belgium
CATEGORIES:Lezing,Nieuws
ATTACH;FMTTYPE=image/png:https://vredescomitekortrijk.org/wp-content/uploads/2025/02/katie-verstrepen.png
END:VEVENT
BEGIN:VEVENT
DTSTART;TZID=UTC:20241221T173000
DTEND;TZID=UTC:20241221T183000
DTSTAMP:20260421T223312
CREATED:20241124T185734Z
LAST-MODIFIED:20241124T192721Z
UID:823-1734802200-1734805800@vredescomitekortrijk.org
SUMMARY:Walk for Peace
DESCRIPTION:Op 21 december 2024 is een ‘Walk for Peace’ gepland\, een verbindende vredeswandeling met getuigenissen\, stilte\, muziek en vredeslicht.  Start om 17u30 op de VEEMARKT\,  wandelend richting CENTRUM. \nNiemand is meer of beter\ner is geen zij versus wij\ner is geen menselijkheid\ntot iedereen veilig is en vrij\nElisabeth Lucie Baeten \nOok in 2024 beheersen conflicten en oorlogen het nieuws. Het lijkt niet te stoppen. Het is soms wanhopig zoeken naar tekenen van verzoening\, van goede wil en menselijkheid. Wat betekent vrede nog? Waar vinden we vrede? Wie roept op tot vrede? \nOp zaterdag 21 december kiezen we radicaal voor vrede. We wandelen door de binnenstad van Kortrijk: in stilte\, met muziek en met ruimte voor diverse stemmen die vertellen wat vrede voor hen betekent. En er is licht\, op een moment in het jaar waarop de dagen weer beginnen te langer worden. \nWandel je mee? Deze Walk for Peace wordt georganiseerd in een breed gedragen samenwerking van vele organisaties\, verenigingen\, scholen\,… die\, samen met jou\, deze luide én stille roep om vrede willen uitdragen. Omdat het\, meer dan ooit\, nodig is.
URL:https://vredescomitekortrijk.org/event/walk-for-peace-2/
ATTACH;FMTTYPE=image/jpeg:https://vredescomitekortrijk.org/wp-content/uploads/2024/09/WalkForPeace-WPuitgelicht-241221.jpg
END:VEVENT
BEGIN:VEVENT
DTSTART;TZID=UTC:20240915T140000
DTEND;TZID=UTC:20240915T200000
DTSTAMP:20260421T223312
CREATED:20240913T082744Z
LAST-MODIFIED:20240913T082815Z
UID:760-1726408800-1726430400@vredescomitekortrijk.org
SUMMARY:Stand with Palestine
DESCRIPTION:
URL:https://vredescomitekortrijk.org/event/stand-with-palestine/
LOCATION:destroate Zwevegemsestraat 13 8500 Kortrijk\, Zwevegemsestraat 13\, Kortrijk\, West-Vlaanderen\, 8520\, Belgium
ATTACH;FMTTYPE=image/jpeg:https://vredescomitekortrijk.org/wp-content/uploads/2024/09/stand-with-palestine.jpg
END:VEVENT
BEGIN:VEVENT
DTSTART;TZID=UTC:20240515T183000
DTEND;TZID=UTC:20240515T193000
DTSTAMP:20260421T223312
CREATED:20240503T082432Z
LAST-MODIFIED:20240518T075804Z
UID:159-1715797800-1715801400@vredescomitekortrijk.org
SUMMARY:Nakba Stiltecirkel Kortrijk
DESCRIPTION:Vind jij het het belangrijk dat onrecht aangekaart wordt? Dat er nu – met de zoveelste oorlog – iets gedaan wordt aan de dodelijke situatie in Israël en Palestina? \nKom dan op 15 mei om 18u30 naar Grote Markt te Kortrijk en vorm met ons een stiltecirkel voor de Nakba-herdenking. \nWe zijn ondertussen al zes maand getuige van een slachtpartij in Gaza. De hulpeloze bevolking wordt nog dagelijks geteisterd door bommen. Hongersnood en gebrek aan drinkwater\, elektriciteit en medische hulp nemen ongeziene proporties aan. \nHet is iedereen duidelijk dat het militaire geweld van vandaag een reactie is op een veel te lang aanslepend onrecht. Het komt met de regelmaat van de klok terug\, zolang de Nakba uit 1948 blijft doorgaan. Dat voortdurend onrecht moet aangepakt worden. \nOp 15 mei is het exact 76 jaar geleden dat de ‘grote catastrofe’ in 1948 begon. Op 14 mei 1948 werd de Joodse staat Israël uitgeroepen. Op 15 mei brak er een oorlog uit tussen de Arabische buurlanden en Israël. De Nakba staat voor de catastrofe\, de geplande etnische zuivering van Palestina\, tijdens de oorlog van 1948-1949. \nJaarlijks organiseren geëngageerde vrijwilligers van Pax Christi\, samen met een breed netwerk aan groepen en organisaties in verschillende steden en gemeenten Nakba-stiltecirkels. De actie is een zichtbaar teken van solidariteit met de Palestijnse bevolking. Het doel van de herdenking – internationaal bekend als de Nakba Memorial – is dubbel: aan de ene kant is het een herdenking van de slachtoffers van de verdrijving\, gekoppeld aan het onophoudelijk onrecht dat hiermee gepaard ging en gaat\, en aan de andere kant is het een oproep tot het naleven van het internationaal recht en de wetten en conventies die de mensenrechten beschermen. \nSamen veroordelen we elke vorm van geweld! \nHet Vredescomité Kortrijk kan zich vinden in het volgende standpunt: Pax Christi Vlaanderen veroordeelt met klem de raketaanvallen van Hamas net zoals het steeds het ongebreidelde en disproportionele geweld van Israël tegen Palestijnse burgers heeft veroordeeld. Geweld stop je niet met geweld. Daarom pleitte Pax Christi in het verleden steeds voor het beëindigen van de bezetting van Palestijns gebied en voor het opstarten van nieuwe vredesgesprekken. Ook vandaag is dat de enige weg om het bloedvergieten te doen stoppen. \nMeer info vind je op:\nhttps://new.paxchristi.be/nakba2024 \nhttps://paxchristi.be/qa/de-palestijnse-nakba-uitgelegd \nFoto: Nakba-herdenking in Bethlehem/Pax Christi International
URL:https://vredescomitekortrijk.org/event/nakba-stiltecirkel-kortrijk/
LOCATION:Grote Markt Kortrijk\, Grote Markt\, Kortrijk\, West-Vlaanderen\, 8500\, België
ATTACH;FMTTYPE=image/png:https://vredescomitekortrijk.org/wp-content/uploads/2024/05/240515-facebookeventbanner.png
END:VEVENT
BEGIN:VEVENT
DTSTART;TZID=UTC:20240508T100000
DTEND;TZID=UTC:20240508T120000
DTSTAMP:20260421T223312
CREATED:20240423T203250Z
LAST-MODIFIED:20240518T075647Z
UID:94-1715162400-1715169600@vredescomitekortrijk.org
SUMMARY:2de vredesmars "8 mei VRIJ" in Kortrijk
DESCRIPTION:
URL:https://vredescomitekortrijk.org/event/2de-vredesmars-8-mei-vrij-in-kortrijk/
LOCATION:Schouwburgplein
ATTACH;FMTTYPE=image/png:https://vredescomitekortrijk.org/wp-content/uploads/2024/04/240508-wordpressbanner.png
END:VEVENT
BEGIN:VEVENT
DTSTART;TZID=UTC:20240325T200000
DTEND;TZID=UTC:20240325T220000
DTSTAMP:20260421T223312
CREATED:20240305T211014Z
LAST-MODIFIED:20240517T235541Z
UID:140-1711396800-1711404000@vredescomitekortrijk.org
SUMMARY:Op de sofa: Brigitte Herremans
DESCRIPTION:Ambassadeur voor de vrede en Midden-Oosten-experte Brigitte Herremans onderzoekt al jarenlang het Israëlisch-Palestijns conflict. De laatste jaren werkte ze aan een doctoraat over hoe kunst ons kan helpen om de oorlogsgruwel te begrijpen. \nHoe ziet ze de oorlog evolueren? Wat kunnen wij hier betekenen? Welke rol spelen kunst en verhalen in de strijd voor mensenrechten in oorlogssituaties? En is vrede echt onmogelijk? \nFoto: © Theo Beck \nBron: Avansa mid- en zuidwest
URL:https://vredescomitekortrijk.org/event/op-de-sofa-brigitte-herremans/
ATTACH;FMTTYPE=image/jpeg:https://vredescomitekortrijk.org/wp-content/uploads/2024/03/BrigitteHermans.jpg
END:VEVENT
BEGIN:VEVENT
DTSTART;TZID=UTC:20240324T120000
DTEND;TZID=UTC:20240324T180000
DTSTAMP:20260421T223312
CREATED:20240305T140705Z
LAST-MODIFIED:20240517T235157Z
UID:131-1711281600-1711303200@vredescomitekortrijk.org
SUMMARY:Mars tegen racisme
DESCRIPTION:Een collectief van organisaties en burgers tegen racisme en discriminatie\, roept op voor een mars tegen racisme. \nStart om 12u aan het Albertinaplein bij station Brussel Centraal.
URL:https://vredescomitekortrijk.org/event/mars-tegen-racisme/
ATTACH;FMTTYPE=image/png:https://vredescomitekortrijk.org/wp-content/uploads/2024/03/Instagram-templates-work-document.png
END:VEVENT
BEGIN:VEVENT
DTSTART;TZID=UTC:20240321T173000
DTEND;TZID=UTC:20240321T210000
DTSTAMP:20260421T223312
CREATED:20240305T135816Z
LAST-MODIFIED:20240517T234101Z
UID:127-1711042200-1711054800@vredescomitekortrijk.org
SUMMARY:Samen aan tafel tegen racisme
DESCRIPTION:Donderdag 21 maart 2024 is de Internationale Dag tegen Racisme en Discriminatie. In Kortrijk plant het lokale platform 21/03 en tal van middenveldpartners de lokale actie\, “Samen aan Tafel”\, een potluck.\nOp een potluck brengt iedereen een gerecht mee om te delen.\nDaarvoor wordt de film “The Mind Game” vertoond – deze film kan een trigger zijn voor gevoelige kijkers.\nAfspraak in de Howest the Penta:\n17:30 Onthaal\n18:00 Filmvoorstelling\n19:02 Samen aan Tafel\nSchrijf je in op: https://docs.google.com/…/1XP4bhsFG3cIHT0dUbhkPtiS…/edit
URL:https://vredescomitekortrijk.org/event/samen-aan-tafel-tegen-racisme/
LOCATION:Howest the Penta\, Sint-Martens-Latemlaan 1B\, Kortrijk\, 8500\, België
ATTACH;FMTTYPE=image/png:https://vredescomitekortrijk.org/wp-content/uploads/2024/03/profiel_pf2103.png
END:VEVENT
BEGIN:VEVENT
DTSTART;TZID=UTC:20240317T140000
DTEND;TZID=UTC:20240317T180000
DTSTAMP:20260421T223312
CREATED:20240306T225114Z
LAST-MODIFIED:20240518T075508Z
UID:148-1710684000-1710698400@vredescomitekortrijk.org
SUMMARY:Nationale actie voor Palestina
DESCRIPTION:Zet 17 maart 2024 alvast in je agenda. Die dag trekt een mars door de straten van Brussel uit solidariteit met Palestina. \nAfspraak om 14u aan het station Brussel-Noord.
URL:https://vredescomitekortrijk.org/event/nationale-actie-voor-palestina/
ATTACH;FMTTYPE=image/jpeg:https://vredescomitekortrijk.org/wp-content/uploads/2024/03/JusticeForPalestine-240317.jpg
END:VEVENT
BEGIN:VEVENT
DTSTART;TZID=UTC:20240229T190000
DTEND;TZID=UTC:20240229T200000
DTSTAMP:20260421T223312
CREATED:20240218T204343Z
LAST-MODIFIED:20240517T141231Z
UID:109-1709233200-1709236800@vredescomitekortrijk.org
SUMMARY:Palestina Wake Verzetskade
DESCRIPTION:Vanaf 16 november 2023 houden we met Platform Palestina Solidariteit Kortrijk wekelijks elke donderdagavond tot eind februari ‘Stille Wake’ aan de Verzetskaai\, nabij de Broeltorens. Het is een intiem gebeuren\, waarbij Palestijnen uit Kortrijk getuigen over het leed van hun familieleden in Gaza en Westoever onder de Israelische bombardementen. We praten over de situatie en houden een ‘minuut stilte’ voor de vele doden en gewonden. \n\n			\n				\n			\n			\n				\n			\n			\n				\n			\n		\n\n 
URL:https://vredescomitekortrijk.org/event/palestina-wake-verzetskade/
LOCATION:verzetskade kortrijk\, Verzetskade\, Kortrijk\, België
ATTACH;FMTTYPE=image/jpeg:https://vredescomitekortrijk.org/wp-content/uploads/2024/02/IMG_20231207_185658_1024w.jpg
END:VEVENT
BEGIN:VEVENT
DTSTART;TZID=UTC:20240127T170000
DTEND;TZID=UTC:20240127T170000
DTSTAMP:20260421T223312
CREATED:20240209T091158Z
LAST-MODIFIED:20240218T204705Z
UID:90-1706374800-1706374800@vredescomitekortrijk.org
SUMMARY:2de solidariteitsmars voor Palestina
DESCRIPTION:Op zaterdag 27 januari 2024 trok een tweede solidariteitsmars voor Palestina door de straten van Kortrijk. De organisatoren vragen aandacht voor de oorlog in Gaza en het geweld op de Westelijke Jordaanoever. \nMeer info en foto uit Het Laatste Nieuws.
URL:https://vredescomitekortrijk.org/event/2de-solidariteitsmars-voor-palestina/
ATTACH;FMTTYPE=image/jpeg:https://vredescomitekortrijk.org/wp-content/uploads/2024/02/OverwinningVanVrede-e1725653402843.jpg
END:VEVENT
BEGIN:VEVENT
DTSTART;TZID=UTC:20231223T170000
DTEND;TZID=UTC:20231223T183000
DTSTAMP:20260421T223312
CREATED:20231223T205930Z
LAST-MODIFIED:20240517T141436Z
UID:85-1703350800-1703356200@vredescomitekortrijk.org
SUMMARY:Walk for Peace
DESCRIPTION:Op 23 december 2023 namen wij deel aan de voorbereiding van en de vredeswandeling door het centrum van Kortrijk. \n\nDeelnemers kregen een kaars die aangestoken werd met de vlam van het moederlicht. Het moederlicht is aangestoken met de “Vredesvlam van Bethlehem”. \n\n\n\nDit is een initiatief voor het eerst in 1986 gestart door de Oostenrijkse omroep ORF. Elk jaar voor Kerstmis komt de vlam van de Geboortegrot in Bethlehem naar Oostenrijk gebracht\, vanwaar het over de hele wereld wordt verspreid. \n\n\n\nhttps://ooe.orf.at/stories/3232827/
URL:https://vredescomitekortrijk.org/event/walk-for-peace/
ATTACH;FMTTYPE=image/jpeg:https://vredescomitekortrijk.org/wp-content/uploads/2023/12/01_WalkForPeace-231223.jpg
END:VEVENT
BEGIN:VEVENT
DTSTART;TZID=UTC:20231025T170000
DTEND;TZID=UTC:20231025T183000
DTSTAMP:20260421T223312
CREATED:20231025T212424Z
LAST-MODIFIED:20240218T204845Z
UID:70-1698253200-1698258600@vredescomitekortrijk.org
SUMMARY:Solidariteitsmars voor Palestina
DESCRIPTION:In Kortrijk trok op 25 oktober 2023 een solidariteitsmars voor Palestina door de straten\, van de Veemarkt naar Kortrijk Weide. Zo’n 500 mensen van Palestijnse afkomst\, leden van de vakbond en andere middenveldorganisaties waaronder het Vredescomité Kortrijk.  De boodschap was duidelijk: stop de oorlog in de Gazastrook. \nMeer info en foto op VRT NWS.
URL:https://vredescomitekortrijk.org/event/solidariteitsmars-voor-palestina/
ATTACH;FMTTYPE=image/jpeg:https://vredescomitekortrijk.org/wp-content/uploads/2024/02/OverwinningVanVrede-e1725653402843.jpg
END:VEVENT
BEGIN:VEVENT
DTSTART;VALUE=DATE:20230921
DTEND;VALUE=DATE:20230922
DTSTAMP:20260421T223312
CREATED:20230921T212333Z
LAST-MODIFIED:20240218T204947Z
UID:68-1695254400-1695340799@vredescomitekortrijk.org
SUMMARY:Dag van de Vrede Krijtactie
DESCRIPTION:Naar aanleiding van de Internationale Dag Van de Vrede op 21 september voerden wij een krijtactie in de binnenstad. Hierin boden we doordenkers aan rond vrede voor de Kortrijkzanen. \n \nKrijtactie Internationale Dag van de Vrede 2023
URL:https://vredescomitekortrijk.org/event/dag-van-de-vrede-krijtactie/
ATTACH;FMTTYPE=image/jpeg:https://vredescomitekortrijk.org/wp-content/uploads/2024/02/01_krijtactie-230921.jpg
END:VEVENT
BEGIN:VEVENT
DTSTART;TZID=UTC:20230508T143000
DTEND;TZID=UTC:20230508T180000
DTSTAMP:20260421T223312
CREATED:20230508T002133Z
LAST-MODIFIED:20240218T204915Z
UID:66-1683556200-1683568800@vredescomitekortrijk.org
SUMMARY:Vrij op 8 mei 2023
DESCRIPTION:Op 8 mei 2023 organiseerden wij een vredesmars \nLeerlingen van “De Kleine Kunstgalerij Kortrijk” – 8 mei 2023 \nHistorisch blijft 8 mei (1945) de dag van de bevrijding. We engageren ons tegen het vergeten en het herhalen van die zwarte bladzijden uit ons geschiedenisboek. We willen dit onderwerp graag opentrekken en verbreden. \nDaarom willen we op die dag de vrede koesteren en oproepen om op maandag 8 mei deel te nemen aan onze vredeshappening in Kortrijk\, en zo alle vormen van geweld en haat aanklagen.\nDaar gaan we dus voor: een vreedzaam protest\, verbonden met elkaar en op een vredevolle manier willen we de vrijheid vieren en elkaar ontmoeten! \nPROGRAMMA\n14:30 uur: Samenkomst op het Schouwburgplein voor een witte vredesmars\, richting de verlaagde Leieboorden \n15:00 uur: Broelkaai 6 – vredeshappening met o.a. zangmoment\, krijttekeningen en allerlei animatie \n15:30 uur: Einde vredesgebeuren \n16:30 uur: Slam Poetry van reizend woordpodium “Veel Vijven en Zessen”\, met een OPEN MIC voor de geïnteresseerden. Laat je gerust horen. \n18:30 uur : Einde
URL:https://vredescomitekortrijk.org/event/vrij-op-8-mei-2023/
ATTACH;FMTTYPE=image/jpeg:https://vredescomitekortrijk.org/wp-content/uploads/2024/02/vredesmars-230508.jpg
END:VEVENT
END:VCALENDAR