BEGIN:VCALENDAR
VERSION:2.0
PRODID:-//Vredescomité Kortrijk - ECPv6.15.20//NONSGML v1.0//EN
CALSCALE:GREGORIAN
METHOD:PUBLISH
X-ORIGINAL-URL:https://vredescomitekortrijk.org
X-WR-CALDESC:Evenementen voor Vredescomité Kortrijk
REFRESH-INTERVAL;VALUE=DURATION:PT1H
X-Robots-Tag:noindex
X-PUBLISHED-TTL:PT1H
BEGIN:VTIMEZONE
TZID:UTC
BEGIN:STANDARD
TZOFFSETFROM:+0000
TZOFFSETTO:+0000
TZNAME:UTC
DTSTART:20250101T000000
END:STANDARD
END:VTIMEZONE
BEGIN:VEVENT
DTSTART;TZID=UTC:20260325T170000
DTEND;TZID=UTC:20260325T210000
DTSTAMP:20260425T121639
CREATED:20260323T220425Z
LAST-MODIFIED:20260323T220425Z
UID:1323-1774458000-1774472400@vredescomitekortrijk.org
SUMMARY:Potluck tegen racisme
DESCRIPTION:We komen samen voor een gezellige avond tijdens onze jaarlijkse potluck tegen racisme. I.k.v de Internationale Dag tegen Racisme en Discriminatie. \n\n17u: Onthaal\n17u30: Start workshops:\n\nZORG: racisme binnen de zorg + cultuursensitieve zorg \nSPORT: racisme binnen sport + goodpractices \n\n18u30: All that we share\n19u: Potluck: iedereen brengt een gerecht mee om te delen. Zo maken we samen een tafel vol verschillende smaken uit de hele wereld.\n\nDit is een mooie kans om elkaar te ontmoeten\, verhalen te delen en samen een duidelijk signaal te geven tegen racisme. \nReservatie: bel naar 056 260600 of : \nTickets and Registration
URL:https://vredescomitekortrijk.org/event/potluck-tegen-racisme/
LOCATION:Howest the Penta\, Sint-Martens-Latemlaan 1B\, Kortrijk\, 8500\, België
CATEGORIES:Potluck
ATTACH;FMTTYPE=image/png:https://vredescomitekortrijk.org/wp-content/uploads/2026/03/PotluckTegenRacisme.png
END:VEVENT
END:VCALENDAR