BEGIN:VCALENDAR
VERSION:2.0
PRODID:-//Vredescomité Kortrijk - ECPv6.15.20//NONSGML v1.0//EN
CALSCALE:GREGORIAN
METHOD:PUBLISH
X-ORIGINAL-URL:https://vredescomitekortrijk.org
X-WR-CALDESC:Evenementen voor Vredescomité Kortrijk
REFRESH-INTERVAL;VALUE=DURATION:PT1H
X-Robots-Tag:noindex
X-PUBLISHED-TTL:PT1H
BEGIN:VTIMEZONE
TZID:UTC
BEGIN:STANDARD
TZOFFSETFROM:+0000
TZOFFSETTO:+0000
TZNAME:UTC
DTSTART:20240101T000000
END:STANDARD
END:VTIMEZONE
BEGIN:VEVENT
DTSTART;TZID=UTC:20250308T140000
DTEND;TZID=UTC:20250308T170000
DTSTAMP:20260421T132528
CREATED:20250223T194958Z
LAST-MODIFIED:20250305T210409Z
UID:960-1741442400-1741453200@vredescomitekortrijk.org
SUMMARY:Kom op straat voor vrouwenrechten op 8 maart!
DESCRIPTION:Vrouwenrechten staan nog steeds onder druk. Ongelijkheid\, onzekerheid en onrecht? Daar nemen we geen genoegen mee! Daarom trekken we op zaterdag 8 maart\, op Internationale Vrouwendag\, de straten van Kortrijk in. ✊💜\nAfspraak om 14u00 op de Grote Markt in Kortrijk. Breng je vrienden\, familie en collega’s mee\, want samen staan we sterker. Er zijn infostanden\, eetkraampjes en een kinderdorp voor de kleinsten.\nGelijkheid wacht niet. Laat weten dat je erbij bent via het Facebookevent: https://fb.me/e/5paMKXYRw \nWaarom actie nodig is:\n1. Ongelijke behandeling: Vrouwen verdienen gemiddeld 21 % minder dan mannen per jaar\, terwijl zij nog steeds 9\,5 uur meer zorg- en huishoudelijke taken per week dragen. \n2. Seksisme en geweld: Seksistisch en seksueel geweld blijven wijdverbreid in de samenleving en er is te weinig preventie\, opvang en vorming voor politie en justitie. \n3. Bescherm de financiële onafhankelijkheid van vrouwen: De organisatoren maken zich zorgen om de nieuwe voorgestelde maatregelen om het behoud van de 38-urenweek en de pensioenopbouw van vrouwen. \nDe eisen:\n1. Stop de aanval op koopkracht en onafhankelijkheid: Hoger minimumloon en betere beloning in vrouwelijke beroepen. \n2. Herstel publieke diensten: Grote herinvesteringen in kinderopvang en sociale diensten en meer betaalbare woningen\, essentieel voor vrouwen met lagere inkomens. \n3. Stop geweld tegen vrouwen: Meer budget voor opvang\, preventie en vorming voor politie en justitie. \n4. Mijn lichaam\, mijn keuze: Hervorm en verbeter de abortuswet. \n5. Solidariteit wereldwijd: Steun vrouwenrechten overal. \nEen organisatie van Collecti.e.f 8 maars in samenwerking met Femma Wereldvrouwen\, Zelle\, ABVV West-Vlaanderen\, ACV West-Vlaanderen\, Avansa\, FMDO\, Compagnie Cordial
URL:https://vredescomitekortrijk.org/event/kom-op-straat-voor-vrouwenrechten-op-8-maart/
LOCATION:Grote Markt Kortrijk\, Grote Markt\, Kortrijk\, West-Vlaanderen\, 8500\, België
CATEGORIES:Mars,Nieuws
ATTACH;FMTTYPE=image/jpeg:https://vredescomitekortrijk.org/wp-content/uploads/2025/02/Collectief8maars-250308.jpg
END:VEVENT
END:VCALENDAR