BEGIN:VCALENDAR
VERSION:2.0
PRODID:-//Vredescomité Kortrijk - ECPv6.15.20//NONSGML v1.0//EN
CALSCALE:GREGORIAN
METHOD:PUBLISH
X-WR-CALNAME:Vredescomité Kortrijk
X-ORIGINAL-URL:https://vredescomitekortrijk.org
X-WR-CALDESC:Evenementen voor Vredescomité Kortrijk
REFRESH-INTERVAL;VALUE=DURATION:PT1H
X-Robots-Tag:noindex
X-PUBLISHED-TTL:PT1H
BEGIN:VTIMEZONE
TZID:UTC
BEGIN:STANDARD
TZOFFSETFROM:+0000
TZOFFSETTO:+0000
TZNAME:UTC
DTSTART:20230101T000000
END:STANDARD
END:VTIMEZONE
BEGIN:VEVENT
DTSTART;TZID=UTC:20240515T183000
DTEND;TZID=UTC:20240515T193000
DTSTAMP:20260423T073837
CREATED:20240503T082432Z
LAST-MODIFIED:20240518T075804Z
UID:159-1715797800-1715801400@vredescomitekortrijk.org
SUMMARY:Nakba Stiltecirkel Kortrijk
DESCRIPTION:Vind jij het het belangrijk dat onrecht aangekaart wordt? Dat er nu – met de zoveelste oorlog – iets gedaan wordt aan de dodelijke situatie in Israël en Palestina? \nKom dan op 15 mei om 18u30 naar Grote Markt te Kortrijk en vorm met ons een stiltecirkel voor de Nakba-herdenking. \nWe zijn ondertussen al zes maand getuige van een slachtpartij in Gaza. De hulpeloze bevolking wordt nog dagelijks geteisterd door bommen. Hongersnood en gebrek aan drinkwater\, elektriciteit en medische hulp nemen ongeziene proporties aan. \nHet is iedereen duidelijk dat het militaire geweld van vandaag een reactie is op een veel te lang aanslepend onrecht. Het komt met de regelmaat van de klok terug\, zolang de Nakba uit 1948 blijft doorgaan. Dat voortdurend onrecht moet aangepakt worden. \nOp 15 mei is het exact 76 jaar geleden dat de ‘grote catastrofe’ in 1948 begon. Op 14 mei 1948 werd de Joodse staat Israël uitgeroepen. Op 15 mei brak er een oorlog uit tussen de Arabische buurlanden en Israël. De Nakba staat voor de catastrofe\, de geplande etnische zuivering van Palestina\, tijdens de oorlog van 1948-1949. \nJaarlijks organiseren geëngageerde vrijwilligers van Pax Christi\, samen met een breed netwerk aan groepen en organisaties in verschillende steden en gemeenten Nakba-stiltecirkels. De actie is een zichtbaar teken van solidariteit met de Palestijnse bevolking. Het doel van de herdenking – internationaal bekend als de Nakba Memorial – is dubbel: aan de ene kant is het een herdenking van de slachtoffers van de verdrijving\, gekoppeld aan het onophoudelijk onrecht dat hiermee gepaard ging en gaat\, en aan de andere kant is het een oproep tot het naleven van het internationaal recht en de wetten en conventies die de mensenrechten beschermen. \nSamen veroordelen we elke vorm van geweld! \nHet Vredescomité Kortrijk kan zich vinden in het volgende standpunt: Pax Christi Vlaanderen veroordeelt met klem de raketaanvallen van Hamas net zoals het steeds het ongebreidelde en disproportionele geweld van Israël tegen Palestijnse burgers heeft veroordeeld. Geweld stop je niet met geweld. Daarom pleitte Pax Christi in het verleden steeds voor het beëindigen van de bezetting van Palestijns gebied en voor het opstarten van nieuwe vredesgesprekken. Ook vandaag is dat de enige weg om het bloedvergieten te doen stoppen. \nMeer info vind je op:\nhttps://new.paxchristi.be/nakba2024 \nhttps://paxchristi.be/qa/de-palestijnse-nakba-uitgelegd \nFoto: Nakba-herdenking in Bethlehem/Pax Christi International
URL:https://vredescomitekortrijk.org/event/nakba-stiltecirkel-kortrijk/
LOCATION:Grote Markt Kortrijk\, Grote Markt\, Kortrijk\, West-Vlaanderen\, 8500\, België
ATTACH;FMTTYPE=image/png:https://vredescomitekortrijk.org/wp-content/uploads/2024/05/240515-facebookeventbanner.png
END:VEVENT
END:VCALENDAR