BEGIN:VCALENDAR
VERSION:2.0
PRODID:-//Vredescomité Kortrijk - ECPv6.15.20//NONSGML v1.0//EN
CALSCALE:GREGORIAN
METHOD:PUBLISH
X-WR-CALNAME:Vredescomité Kortrijk
X-ORIGINAL-URL:https://vredescomitekortrijk.org
X-WR-CALDESC:Evenementen voor Vredescomité Kortrijk
REFRESH-INTERVAL;VALUE=DURATION:PT1H
X-Robots-Tag:noindex
X-PUBLISHED-TTL:PT1H
BEGIN:VTIMEZONE
TZID:UTC
BEGIN:STANDARD
TZOFFSETFROM:+0000
TZOFFSETTO:+0000
TZNAME:UTC
DTSTART:20230101T000000
END:STANDARD
END:VTIMEZONE
BEGIN:VEVENT
DTSTART;TZID=UTC:20240508T100000
DTEND;TZID=UTC:20240508T120000
DTSTAMP:20260423T073026
CREATED:20240423T203250Z
LAST-MODIFIED:20240518T075647Z
UID:94-1715162400-1715169600@vredescomitekortrijk.org
SUMMARY:2de vredesmars "8 mei VRIJ" in Kortrijk
DESCRIPTION:
URL:https://vredescomitekortrijk.org/event/2de-vredesmars-8-mei-vrij-in-kortrijk/
LOCATION:Schouwburgplein
ATTACH;FMTTYPE=image/png:https://vredescomitekortrijk.org/wp-content/uploads/2024/04/240508-wordpressbanner.png
END:VEVENT
END:VCALENDAR